BEGIN:VCALENDAR
VERSION:2.0
PRODID:-//Delaware County Veterans Services - ECPv6.15.13//NONSGML v1.0//EN
CALSCALE:GREGORIAN
METHOD:PUBLISH
X-WR-CALNAME:Delaware County Veterans Services
X-ORIGINAL-URL:https://veteransservice.co.delaware.oh.us
X-WR-CALDESC:Events for Delaware County Veterans Services
REFRESH-INTERVAL;VALUE=DURATION:PT1H
X-Robots-Tag:noindex
X-PUBLISHED-TTL:PT1H
BEGIN:VTIMEZONE
TZID:UTC
BEGIN:STANDARD
TZOFFSETFROM:+0000
TZOFFSETTO:+0000
TZNAME:UTC
DTSTART:20250101T000000
END:STANDARD
END:VTIMEZONE
BEGIN:VEVENT
DTSTART;TZID=UTC:20261003T120000
DTEND;TZID=UTC:20261003T170000
DTSTAMP:20260421T162730
CREATED:20260312T142730Z
LAST-MODIFIED:20260312T142730Z
UID:10000005-1791028800-1791046800@veteransservice.co.delaware.oh.us
SUMMARY:Veteran Fall Festival "Vet Fest" 2026
DESCRIPTION:
URL:https://veteransservice.co.delaware.oh.us/event/veteran-fall-festival-vet-fest-2026/
LOCATION:Veteran’s Park\, 1121 S Houk Rd\, Delaware\, OH\, 43015\, United States
END:VEVENT
END:VCALENDAR